BEGIN:VCALENDAR
VERSION:2.0
PRODID:-//Membership World - ECPv6.15.12.2//NONSGML v1.0//EN
CALSCALE:GREGORIAN
METHOD:PUBLISH
X-WR-CALNAME:Membership World
X-ORIGINAL-URL:https://www.membershipworld.com
X-WR-CALDESC:Events for Membership World
REFRESH-INTERVAL;VALUE=DURATION:PT1H
X-Robots-Tag:noindex
X-PUBLISHED-TTL:PT1H
BEGIN:VTIMEZONE
TZID:Europe/London
BEGIN:DAYLIGHT
TZOFFSETFROM:+0000
TZOFFSETTO:+0100
TZNAME:BST
DTSTART:20240331T010000
END:DAYLIGHT
BEGIN:STANDARD
TZOFFSETFROM:+0100
TZOFFSETTO:+0000
TZNAME:GMT
DTSTART:20241027T010000
END:STANDARD
BEGIN:DAYLIGHT
TZOFFSETFROM:+0000
TZOFFSETTO:+0100
TZNAME:BST
DTSTART:20250330T010000
END:DAYLIGHT
BEGIN:STANDARD
TZOFFSETFROM:+0100
TZOFFSETTO:+0000
TZNAME:GMT
DTSTART:20251026T010000
END:STANDARD
BEGIN:DAYLIGHT
TZOFFSETFROM:+0000
TZOFFSETTO:+0100
TZNAME:BST
DTSTART:20260329T010000
END:DAYLIGHT
BEGIN:STANDARD
TZOFFSETFROM:+0100
TZOFFSETTO:+0000
TZNAME:GMT
DTSTART:20261025T010000
END:STANDARD
END:VTIMEZONE
BEGIN:VEVENT
DTSTART;TZID=Europe/London:20251014T140000
DTEND;TZID=Europe/London:20251014T150000
DTSTAMP:20260420T083845
CREATED:20250912T190625Z
LAST-MODIFIED:20251010T113544Z
UID:10000071-1760450400-1760454000@www.membershipworld.com
SUMMARY:Essential Skills for Leaders of Professional Membership Associations
DESCRIPTION:With the role of associations evolving faster than ever\, today’s leaders must balance vision\, agility\, and operational excellence. It’s no longer enough to manage day-to-day demands—executives must cultivate a diverse skill set to inspire teams\, deliver member value\, and navigate an increasingly complex environment. \n\n\nThis executive roundtable invites association CEOs and senior leaders to explore the essential skills now required to succeed. Led by Adam Boddison\, CEO of the Association for Project Management\, the session will uncover real-world leadership lessons\, candid reflections\, and actionable strategies for strengthening executive capacity in professional membership organisations. \nDiscussion Themes: \n\nAdaptive Leadership in a Changing Landscape \nHow do leaders balance long-term vision with short-term pressures? \nEngaging and Retaining Members \nWhat skills matter most for building meaningful connections and sustaining value? \nFinancial and Strategic Acumen \nWhy do leaders need to be as comfortable with numbers as they are with narratives? \nBuilding High-Performing Teams \nWhat does it take to motivate\, empower\, and retain top talent in associations? \nGovernance and Influence \nHow can CEOs navigate boards\, stakeholders\, and policy landscapes effectively? \n\nWhat You’ll Take Away: \n\n\nYou’ll leave with a clearer picture of the leadership toolkit required for today’s association executives—practical insights you can apply immediately to strengthen your impact\, sharpen your strategy\, and lead with confidence. \n\n\nFeatured Guest: \nAdam Boddison\, CEO of the Association for Project Management (APM). An experienced chief executive\, Adam has built his career on blending education and enterprise to drive social change. He has expanded the reach of national charities\, positioned the chartered project profession as a driver of social mobility\, and influenced government policy across education\, health\, and social care. With experience spanning teaching\, governance\, and international development\, Adam brings a wealth of insight into what it takes to lead membership organisations in today’s world.
URL:https://www.membershipworld.com/event/essential-skills-for-leaders-of-professional-membership-associations/
CATEGORIES:Roundtables
ATTACH;FMTTYPE=image/png:https://www.membershipworld.com/wp-content/uploads/2025/09/1200x630-Rountable-Essential-Skills-for-Leaders-October-14th-2025.png
ORGANIZER;CN="Membership World":MAILTO:francisco@membershipworld.com
LOCATION:https://us02web.zoom.us/j/8863498137
END:VEVENT
BEGIN:VEVENT
DTSTART;TZID=Europe/London:20251022T160000
DTEND;TZID=Europe/London:20251022T170000
DTSTAMP:20260420T083845
CREATED:20250912T191659Z
LAST-MODIFIED:20251008T182445Z
UID:10000072-1761148800-1761152400@www.membershipworld.com
SUMMARY:How to Make Associations Work Effectively?
DESCRIPTION:Running an association successfully requires balancing member needs\, sector demands\, and strategic priorities—all while navigating the challenges that come with leadership. This interactive roundtable invites association leaders\, aspiring founders\, and sector professionals to explore what really makes associations effective—drawing on real-world experience and practical insights. \n\n\nLed by Russell Hamblin-Boone\, a seasoned association leader\, we’ll discuss strategies for meeting member expectations\, managing stakeholders\, and ensuring long-term impact. This session is participatory\, with space for peer discussion\, your questions\, and practical advice you can apply in your own association. \nDiscussion Themes: \nMeeting Member Needs\nUnderstand how to identify and deliver the services\, support\, and value your members expect. \nStakeholder Management\nLearn practical approaches to balancing the interests of regulators\, industry partners\, and internal teams. \nStrategy in Action\nExplore what works—and what doesn’t—when implementing association strategies\, from finance and advocacy to innovation and governance. \nInteractive Q&A\nBring your questions\, challenges\, and experiences. Russell will provide insights to help you apply these lessons in your own context. \nWhat You’ll Take Away: \nYou’ll leave with actionable ideas for running an effective association\, practical strategies for common pitfalls\, and inspiration from someone who has led multiple associations to success. \nFeatured Guest: \nRussell Hamblin-Boone has extensive experience in the membership sector\, having led several trade associations from the ground up. He shares firsthand insights into member engagement\, sector collaboration\, and association management\, drawing on decades of leadership experience.
URL:https://www.membershipworld.com/event/how-to-make-associations-work-effectively/
CATEGORIES:Roundtables
ATTACH;FMTTYPE=image/png:https://www.membershipworld.com/wp-content/uploads/2025/09/Rountable-How-to-Make-Associations-Work-Effectively_-October-22-2025-1920x1080-1.png
ORGANIZER;CN="Membership World":MAILTO:francisco@membershipworld.com
LOCATION:https://us02web.zoom.us/j/8863498137
END:VEVENT
END:VCALENDAR