BEGIN:VCALENDAR
VERSION:2.0
PRODID:-//Membership World - ECPv6.15.12.2//NONSGML v1.0//EN
CALSCALE:GREGORIAN
METHOD:PUBLISH
X-WR-CALNAME:Membership World
X-ORIGINAL-URL:https://www.membershipworld.com?currency=usd
X-WR-CALDESC:Events for Membership World
REFRESH-INTERVAL;VALUE=DURATION:PT1H
X-Robots-Tag:noindex
X-PUBLISHED-TTL:PT1H
BEGIN:VTIMEZONE
TZID:Europe/London
BEGIN:DAYLIGHT
TZOFFSETFROM:+0000
TZOFFSETTO:+0100
TZNAME:BST
DTSTART:20240331T010000
END:DAYLIGHT
BEGIN:STANDARD
TZOFFSETFROM:+0100
TZOFFSETTO:+0000
TZNAME:GMT
DTSTART:20241027T010000
END:STANDARD
BEGIN:DAYLIGHT
TZOFFSETFROM:+0000
TZOFFSETTO:+0100
TZNAME:BST
DTSTART:20250330T010000
END:DAYLIGHT
BEGIN:STANDARD
TZOFFSETFROM:+0100
TZOFFSETTO:+0000
TZNAME:GMT
DTSTART:20251026T010000
END:STANDARD
BEGIN:DAYLIGHT
TZOFFSETFROM:+0000
TZOFFSETTO:+0100
TZNAME:BST
DTSTART:20260329T010000
END:DAYLIGHT
BEGIN:STANDARD
TZOFFSETFROM:+0100
TZOFFSETTO:+0000
TZNAME:GMT
DTSTART:20261025T010000
END:STANDARD
END:VTIMEZONE
BEGIN:VEVENT
DTSTART;TZID=Europe/London:20250722T140000
DTEND;TZID=Europe/London:20250722T150000
DTSTAMP:20260421T145453
CREATED:20250620T151429Z
LAST-MODIFIED:20250630T201914Z
UID:10000063-1753192800-1753196400@www.membershipworld.com
SUMMARY:Driving 365 Engagement: Community Apps for Year-Round Member Value
DESCRIPTION:As associations seek to deepen member connections and deliver value year-round\, many are exploring custom-built community apps as a key tool in their digital engagement strategy. \nThis executive roundtable brings association leaders together to explore what it takes to build and sustain an online community app that truly engages—365 days a year. We’ll examine the strategic choices\, platform capabilities\, and engagement tactics that can turn your app from a static resource into a vibrant digital home for members. \nThrough expert insights and peer-led discussion\, you’ll gain clarity on how to align tech investments with community goals\, foster continuous interaction\, and track the impact of your digital efforts. \nDiscussion Themes: \nPurpose & Strategic Alignment \n\nWhat role should a community app play in your broader engagement strategy?\nHow do you define and design for long-term member value?\n\nDriving Daily Engagement \n\nExplore practical features—from content and gamification to networking and peer support—that spark ongoing participation.\nWhat keeps members coming back?\n\nTechnology\, Integration & Scalability \n\nReview essential tech considerations: platform choices\, CRM/AMS integration\, scalability\, and analytics.\nHow do you ensure a seamless and adaptable experience?\n\nMeasuring Success & Demonstrating ROI \n\nWhat metrics indicate real engagement and community health?\nHow do you evolve your strategy based on member behavior and feedback?\n\nWhat You’ll Take Away: \nYou’ll leave with a deeper understanding of what it takes to build or refine an online community app that delivers ongoing value. Expect peer-tested ideas\, key success metrics\, and a clearer path for integrating digital community into your long-term engagement strategy.
URL:https://www.membershipworld.com/event/building-online-community-apps-with-365-engagement/?currency=usd
CATEGORIES:Webinars
ATTACH;FMTTYPE=image/png:https://www.membershipworld.com/wp-content/uploads/2025/06/JULY-22-ONLINE-WEBINAR.png
ORGANIZER;CN="Membership World":MAILTO:francisco@membershipworld.com
LOCATION:https://www.membershipworld.com/event/building-online-community-apps-with-365-engagement/?currency=usd
END:VEVENT
END:VCALENDAR